BEGIN:VCALENDAR
PRODID:-//eluceo/ical//2.0/EN
VERSION:2.0
CALSCALE:GREGORIAN
BEGIN:VEVENT
UID:d045f54d833a070080f2a2498537734c
DTSTAMP:20260422T145300Z
SUMMARY:Sigríður Hjördís Jörundsdóttir - Ómagar við upphaf 18. alda
 r
DESCRIPTION:
URL:https://rvkbreidholt.rotary1360.is/is/agenda/show/1648
DTSTART;TZID=Iceland:20200309T181500
DTEND;TZID=Iceland:20200309T193000
LOCATION:Grand Hótel Reykjavík\nSigtúni 38\n105 Reykjavík\n
CATEGORIES:Rotary
END:VEVENT
BEGIN:VTIMEZONE
TZID:Iceland
BEGIN:STANDARD
DTSTART:20200309T181500
TZNAME:GMT
TZOFFSETTO:+0000
TZOFFSETFROM:+0000
END:STANDARD
END:VTIMEZONE
END:VCALENDAR
