BEGIN:VCALENDAR
PRODID:-//eluceo/ical//2.0/EN
VERSION:2.0
CALSCALE:GREGORIAN
BEGIN:VEVENT
UID:2e873b4cc3f115c3999cb9406dfbdf70
DTSTAMP:20260420T093129Z
SUMMARY:Rótarýfundur
DESCRIPTION:
URL:https://rvkbreidholt.rotary1360.is/is/agenda/show/2222
DTSTART;TZID=Iceland:20210308T181500
DTEND;TZID=Iceland:20210308T193000
LOCATION:Grand Hótel Reykjavík\nSigtúni 38\n105 Reykjavík\n
CATEGORIES:Rotary
END:VEVENT
BEGIN:VTIMEZONE
TZID:Iceland
BEGIN:STANDARD
DTSTART:20210308T181500
TZNAME:GMT
TZOFFSETTO:+0000
TZOFFSETFROM:+0000
END:STANDARD
END:VTIMEZONE
END:VCALENDAR
