BEGIN:VCALENDAR
PRODID:-//eluceo/ical//2.0/EN
VERSION:2.0
CALSCALE:GREGORIAN
BEGIN:VEVENT
UID:1da734002f3941c659d3ec2980c7eb41
DTSTAMP:20260420T092011Z
SUMMARY:Heiðmerkurferð
DESCRIPTION:
URL:https://rvkbreidholt.rotary1360.is/is/agenda/show/2231
DTSTART;TZID=Iceland:20210515T110000
DTEND;TZID=Iceland:20210515T140000
LOCATION:Heiðmörk\nMæting við Elliðavatnsbæinn kl: 11.00
CATEGORIES:Rotary
END:VEVENT
BEGIN:VTIMEZONE
TZID:Iceland
BEGIN:STANDARD
DTSTART:20210515T110000
TZNAME:GMT
TZOFFSETTO:+0000
TZOFFSETFROM:+0000
END:STANDARD
END:VTIMEZONE
END:VCALENDAR
