BEGIN:VCALENDAR
PRODID:-//eluceo/ical//2.0/EN
VERSION:2.0
CALSCALE:GREGORIAN
BEGIN:VEVENT
UID:c371f36acedeaff9fac1e59e5254e545
DTSTAMP:20260423T084414Z
SUMMARY:Eimskip - Félagið og skipaflutningar
DESCRIPTION:
URL:https://rvkbreidholt.rotary1360.is/is/agenda/show/3196
DTSTART;TZID=Iceland:20211018T181500
DTEND;TZID=Iceland:20211018T193000
LOCATION:Grand Hótel Reykjavík\nSigtúni 38\n105 Reykjavík\n
CATEGORIES:Rotary
END:VEVENT
BEGIN:VTIMEZONE
TZID:Iceland
BEGIN:STANDARD
DTSTART:20211018T181500
TZNAME:GMT
TZOFFSETTO:+0000
TZOFFSETFROM:+0000
END:STANDARD
END:VTIMEZONE
END:VCALENDAR
