BEGIN:VCALENDAR
PRODID:-//eluceo/ical//2.0/EN
VERSION:2.0
CALSCALE:GREGORIAN
BEGIN:VEVENT
UID:c4d568e45e7967d63dcb7a676584499b
DTSTAMP:20260423T092428Z
SUMMARY:Vindorka á Íslandi
DESCRIPTION:
URL:https://rvkbreidholt.rotary1360.is/is/agenda/show/3340
DTSTART;TZID=Iceland:20211115T170000
DTEND;TZID=Iceland:20211115T180000
LOCATION:Grand Hótel Reykjavík\nSigtúni 38\n105 Reykjavík\n
CATEGORIES:Rotary
END:VEVENT
BEGIN:VTIMEZONE
TZID:Iceland
BEGIN:STANDARD
DTSTART:20211115T170000
TZNAME:GMT
TZOFFSETTO:+0000
TZOFFSETFROM:+0000
END:STANDARD
END:VTIMEZONE
END:VCALENDAR
