BEGIN:VCALENDAR
PRODID:-//eluceo/ical//2.0/EN
VERSION:2.0
CALSCALE:GREGORIAN
BEGIN:VEVENT
UID:ac1e74490b0468fcf5d38f009134613a
DTSTAMP:20260423T085229Z
SUMMARY:Trausti Valsson fjallar um skipulagsmál
DESCRIPTION:
URL:https://rvkbreidholt.rotary1360.is/is/agenda/show/3686
DTSTART;TZID=Iceland:20220404T181500
DTEND;TZID=Iceland:20220404T193000
LOCATION:Grand Hótel Reykjavík\nSigtúni 38\n105 Reykjavík\n
CATEGORIES:Rotary
END:VEVENT
BEGIN:VTIMEZONE
TZID:Iceland
BEGIN:STANDARD
DTSTART:20220404T181500
TZNAME:GMT
TZOFFSETTO:+0000
TZOFFSETFROM:+0000
END:STANDARD
END:VTIMEZONE
END:VCALENDAR
