BEGIN:VCALENDAR
PRODID:-//eluceo/ical//2.0/EN
VERSION:2.0
CALSCALE:GREGORIAN
BEGIN:VEVENT
UID:d75a5525617dbde0a66dfa672dc4b2c2
DTSTAMP:20260420T090938Z
SUMMARY:Rótarýfundur mánudaginn 19. september 2022
DESCRIPTION:
URL:https://rvkbreidholt.rotary1360.is/is/agenda/show/3962
DTSTART;TZID=Iceland:20220919T175500
DTEND;TZID=Iceland:20220919T200000
LOCATION:-
CATEGORIES:Rotary
END:VEVENT
BEGIN:VTIMEZONE
TZID:Iceland
BEGIN:STANDARD
DTSTART:20220919T175500
TZNAME:GMT
TZOFFSETTO:+0000
TZOFFSETFROM:+0000
END:STANDARD
END:VTIMEZONE
END:VCALENDAR
